BEGIN:VCALENDAR
VERSION:2.0
PRODID:-//Die DGM in Bremen / Niedersachsen - ECPv6.15.20//NONSGML v1.0//EN
CALSCALE:GREGORIAN
METHOD:PUBLISH
X-ORIGINAL-URL:https://dgm-im-norden.de
X-WR-CALDESC:Veranstaltungen für Die DGM in Bremen / Niedersachsen
REFRESH-INTERVAL;VALUE=DURATION:PT1H
X-Robots-Tag:noindex
X-PUBLISHED-TTL:PT1H
BEGIN:VTIMEZONE
TZID:Europe/Berlin
BEGIN:DAYLIGHT
TZOFFSETFROM:+0100
TZOFFSETTO:+0200
TZNAME:CEST
DTSTART:20250330T010000
END:DAYLIGHT
BEGIN:STANDARD
TZOFFSETFROM:+0200
TZOFFSETTO:+0100
TZNAME:CET
DTSTART:20251026T010000
END:STANDARD
BEGIN:DAYLIGHT
TZOFFSETFROM:+0100
TZOFFSETTO:+0200
TZNAME:CEST
DTSTART:20260329T010000
END:DAYLIGHT
BEGIN:STANDARD
TZOFFSETFROM:+0200
TZOFFSETTO:+0100
TZNAME:CET
DTSTART:20261025T010000
END:STANDARD
BEGIN:DAYLIGHT
TZOFFSETFROM:+0100
TZOFFSETTO:+0200
TZNAME:CEST
DTSTART:20270328T010000
END:DAYLIGHT
BEGIN:STANDARD
TZOFFSETFROM:+0200
TZOFFSETTO:+0100
TZNAME:CET
DTSTART:20271031T010000
END:STANDARD
END:VTIMEZONE
BEGIN:VEVENT
DTSTART;TZID=Europe/Berlin:20260121T180000
DTEND;TZID=Europe/Berlin:20260121T193000
DTSTAMP:20260423T163632
CREATED:20251118T111805Z
LAST-MODIFIED:20251126T110812Z
UID:5707-1769018400-1769023800@dgm-im-norden.de
SUMMARY:Schwerbehinderung
DESCRIPTION:Auf die Basics kommt es an. \n\nEine Vortragsreihe der Norddeutschen DGM-Landesverbände \nReferentin: Katharina Lorenz\nLeiterin der Abteilung Sozialpolitik im SoVD Niedersachsen \n  \n\nWann gelte ich als schwerbehindert und wo beantrage ich einen Schwerbehindertenausweis? Wofür stehen eigentlich die Merkzeichen und welche Vorteile ergeben sich daraus? Das alles sind Fragen\, die Betroffene und ihre Angehörigen oft verunsichern. \nKatharina Lorenz gibt Antworten. Sie erklärt\, welche Schritte bei der Antragstellung wichtig sind\, welche Rechte Betroffene haben und was sie tun können\, wenn der Grad der Behinderung herabgestuft werden soll.
URL:https://dgm-im-norden.de/event/schwerbehinderung/
LOCATION:Online per Zoom
ATTACH;FMTTYPE=image/jpeg:https://dgm-im-norden.de/wp-content/uploads/2025/11/Katharina-Lorenz.jpg
ORGANIZER;CN="DGM-Nordachse":MAILTO:christian.zuechner@dgm.org
END:VEVENT
BEGIN:VEVENT
DTSTART;TZID=Europe/Berlin:20260128T140000
DTEND;TZID=Europe/Berlin:20260128T180000
DTSTAMP:20260423T163632
CREATED:20251205T124105Z
LAST-MODIFIED:20251205T124105Z
UID:5869-1769608800-1769623200@dgm-im-norden.de
SUMMARY:Leben mit ALS – verstehen\, unterstützen\, versorgen
DESCRIPTION:Ziel der Informationsveranstaltung \n• Fachlicher Input: Frau Dr. Elkmann\, Fachärztin für Neurologie stellt das Krankheitsbild ALS vor und erläutert den Verlauf sowie die medizinischen Herausforderungen. \n• Versorgungsbedarf verstehen: Ziel der Veranstaltung ist es\, ein tieferes Verständnis für die Bedürfnisse von Menschen mit ALS zu schaffen – medizinisch\, pflegerisch und im Alltag. \n• Hilfsmittel & Unterstützung: Verschiedene Hersteller und Dienstleister präsentieren ihre Produkte und Lösungen\, die den Alltag von Betroffenen erleichtern können – von Mobilitätshilfen über Kommunikationsmittel bis hin zu innovativer Pflegeunterstützung. \nFür wen ist die Veranstaltung gedacht? \n• Betroffene und Angehörige \n• Pflegekräfte und Therapeut:innen \n• Ärzt:innen und medizinisches Fachpersonal \n• Interessierte aus dem sozialen und gesundheitlichen Bereich \nVeranstalter: Sanitätshaus M+L GmbH \nFachliche Leitung: \n• Dr. Maren Elkmann\, Fachärztin für Neurologie\, Alexianer MVZ Münsterland \n• Wiebke Wiegerink\, Dozentin und Reha -Fachberaterin\, Sanitätshaus M+L \nVorträge und Produktvorstellungen durch Spezialisten: \n• Julian Sparbier – Permobil Elektrorollstühle für individuelle Mobilitätsbedürfnisse \n• Sebastian Petsch – Rehamed Assistive Unterstützungssysteme zur Förderung von Selbstständigkeit und Teilhabe \n• Gregor Nitka – Talk Tools Kommunikationshilfen für Menschen mit Sprach- und Sprechstörungen \n• Kai Zarske – Etac/Molift Liftersysteme zur sicheren und ergonomischen Unterstützung in der Pflege \n• Christin Niewerth & Jana Vugteveen – Sanitätshaus Brinkmann Orthopädietechnische Lösungen und moderne Kompressionsbestrumpfung \nKosten: 5€ pro Teilnehmer\,
URL:https://dgm-im-norden.de/event/leben-mit-als-verstehen-unterstuetzen-versorgen/
LOCATION:Designer-Outlet Ochtrup\, Laurenzstraße 51-55\, Eingang Nord 2.OG\, Ochtrup\, 48607\, Germany
END:VEVENT
END:VCALENDAR