BEGIN:VCALENDAR
VERSION:2.0
PRODID:-//Die DGM in Bremen / Niedersachsen - ECPv6.15.20//NONSGML v1.0//EN
CALSCALE:GREGORIAN
METHOD:PUBLISH
X-ORIGINAL-URL:https://dgm-im-norden.de
X-WR-CALDESC:Veranstaltungen für Die DGM in Bremen / Niedersachsen
REFRESH-INTERVAL;VALUE=DURATION:PT1H
X-Robots-Tag:noindex
X-PUBLISHED-TTL:PT1H
BEGIN:VTIMEZONE
TZID:Europe/Berlin
BEGIN:DAYLIGHT
TZOFFSETFROM:+0100
TZOFFSETTO:+0200
TZNAME:CEST
DTSTART:20240331T010000
END:DAYLIGHT
BEGIN:STANDARD
TZOFFSETFROM:+0200
TZOFFSETTO:+0100
TZNAME:CET
DTSTART:20241027T010000
END:STANDARD
BEGIN:DAYLIGHT
TZOFFSETFROM:+0100
TZOFFSETTO:+0200
TZNAME:CEST
DTSTART:20250330T010000
END:DAYLIGHT
BEGIN:STANDARD
TZOFFSETFROM:+0200
TZOFFSETTO:+0100
TZNAME:CET
DTSTART:20251026T010000
END:STANDARD
BEGIN:DAYLIGHT
TZOFFSETFROM:+0100
TZOFFSETTO:+0200
TZNAME:CEST
DTSTART:20260329T010000
END:DAYLIGHT
BEGIN:STANDARD
TZOFFSETFROM:+0200
TZOFFSETTO:+0100
TZNAME:CET
DTSTART:20261025T010000
END:STANDARD
END:VTIMEZONE
BEGIN:VEVENT
DTSTART;TZID=Europe/Berlin:20251203T190000
DTEND;TZID=Europe/Berlin:20251203T200000
DTSTAMP:20260423T174128
CREATED:20251128T090549Z
LAST-MODIFIED:20251128T090549Z
UID:5803-1764788400-1764792000@dgm-im-norden.de
SUMMARY:Diagnosegruppe MMOD stellt sich vor
DESCRIPTION:Mittwoch 03. Dezember 2025\, 19:00 Uhr\, via Zoom\nReferentin: Marion Leder\, Leitung der Diagnosegruppe (bundesweit \nDer Landesverband Schleswig-Holstein lädt zu einem nächsten Stammtisch mit der Vorstellung einer Diagnosegruppe ein. Die MMOD-Gruppe wurde als Diagnosegruppe der Deutschen Gesellschaft für Muskelkranke (DGM) 2012 gegründet. Sie besteht heute aus über 650 Mitgliedern. Die Gruppe vertritt Muskelkranke mit sehr seltener oder ohne feststehende Diagnose sowie ihr Umfeld. \n\nDas Leben mit einer sehr seltenen Muskelkrankheit oder einer Muskelerkrankung ohne klare Diagnose stellt die Betroffenen\, zusätzlich zu den durch die Krankheit verursachten  Einschränkungen\, vor weitere nicht zu unterschätzende Belastungen.\nDie Ursache der Krankheit nicht benennen und greifen zu können\, kann psychisch sehr schwer sein. Die Prognose eines Verlaufs bleibt unklar. Für eine sinnvolle Lebensplanung sowie die nötige medizinische und therapeutische Betreuung sind aber genau diese Informationen essentiell. \n\nWir hoffen Ihr seit ein bisschen neugierig und habt Interesse etwas über diese Diagnosegruppe der DGM zu erfahren.Wir freuen uns über Eure Teilnahme. \nBitte meldet Euch über den nachstehenden Link an:
URL:https://dgm-im-norden.de/event/diagnosegruppe-mmod-stellt-sich-vor/
LOCATION:Online per Zoom
ATTACH;FMTTYPE=image/jpeg:https://dgm-im-norden.de/wp-content/uploads/2025/11/Bildschirmfoto-2025-11-28-um-10.01.04.jpg
END:VEVENT
END:VCALENDAR