BEGIN:VCALENDAR
VERSION:2.0
PRODID:-//Die DGM in Bremen / Niedersachsen - ECPv6.15.20//NONSGML v1.0//EN
CALSCALE:GREGORIAN
METHOD:PUBLISH
X-ORIGINAL-URL:https://dgm-im-norden.de
X-WR-CALDESC:Veranstaltungen für Die DGM in Bremen / Niedersachsen
REFRESH-INTERVAL;VALUE=DURATION:PT1H
X-Robots-Tag:noindex
X-PUBLISHED-TTL:PT1H
BEGIN:VTIMEZONE
TZID:Europe/Berlin
BEGIN:DAYLIGHT
TZOFFSETFROM:+0100
TZOFFSETTO:+0200
TZNAME:CEST
DTSTART:20240331T010000
END:DAYLIGHT
BEGIN:STANDARD
TZOFFSETFROM:+0200
TZOFFSETTO:+0100
TZNAME:CET
DTSTART:20241027T010000
END:STANDARD
BEGIN:DAYLIGHT
TZOFFSETFROM:+0100
TZOFFSETTO:+0200
TZNAME:CEST
DTSTART:20250330T010000
END:DAYLIGHT
BEGIN:STANDARD
TZOFFSETFROM:+0200
TZOFFSETTO:+0100
TZNAME:CET
DTSTART:20251026T010000
END:STANDARD
BEGIN:DAYLIGHT
TZOFFSETFROM:+0100
TZOFFSETTO:+0200
TZNAME:CEST
DTSTART:20260329T010000
END:DAYLIGHT
BEGIN:STANDARD
TZOFFSETFROM:+0200
TZOFFSETTO:+0100
TZNAME:CET
DTSTART:20261025T010000
END:STANDARD
END:VTIMEZONE
BEGIN:VEVENT
DTSTART;TZID=Europe/Berlin:20250903T190000
DTEND;TZID=Europe/Berlin:20250903T200000
DTSTAMP:20260425T124623
CREATED:20250717T114743Z
LAST-MODIFIED:20250828T175240Z
UID:5129-1756926000-1756929600@dgm-im-norden.de
SUMMARY:Ergotherapie bei neuromuskulären Erkrankungen
DESCRIPTION:Neuromuskuläre Erkrankungen können zu erheblichen fortschreitenden Funktionsverlusten führen und gehen somit häufig mit Einschränkungen der Handlungsfähigkeit im Alltag einher.\nWas kann Ergotherapie leisten und wie kann sie Menschen mit neuromuskulären Erkrankungen unterstützen? \nReferentin:\nMeike Anstett\, Ergotherapeutin im Fachzentrum für neuromuskuläre Erkrankungen des Universitätsklinikums Schleswig-Holstein und Mitglied im Fachausschuss Neurologie der Deutschen Verbandes Ergotherapie (DVE)\, gibt in einem Kurzvortrag Einblicke in die ergotherapeutische Arbeit mit Betroffenen.\nAnschaulich werden Grundlagen und Ziele der Ergotherapie vermittelt und das Potenzial der vielfältigen Interventionsmöglichkeiten aufgezeigt\, die neben bekannten restitutiven Verfahren zu einer Erhöhung der Lebensqualität\nbeitragen können. \nGerne geben wir die Einladung unserer DGM-Nachbarn in Schleswig-Holstein weiter und freuen uns über Eure rege Teilnahme. \nBitte meldet Euch über den nachstehenden Link an:
URL:https://dgm-im-norden.de/event/ergotherapie-bei-neuromuskulaeren-erkrankungen/
LOCATION:Online per Zoom
ATTACH;FMTTYPE=image/jpeg:https://dgm-im-norden.de/wp-content/uploads/2025/07/imagecompressionx0EGDH.jpeg
END:VEVENT
BEGIN:VEVENT
DTSTART;TZID=Europe/Berlin:20250906T100000
DTEND;TZID=Europe/Berlin:20250906T160000
DTSTAMP:20260425T124623
CREATED:20250717T115421Z
LAST-MODIFIED:20250727T100806Z
UID:5136-1757152800-1757174400@dgm-im-norden.de
SUMMARY:1. Kinder-&Jugend-Sommerfest des Landesverbandes Schleswig-Holstein
DESCRIPTION:Wann?    06. September 2025 von 10:00 – 16:00 Uhr\nWo?        Bootshaus Marli\, Alexanderstraße 2A\,\n23566 Lübeck \nLiebe Kinder\, Jugendliche und junge Erwachsene\, liebe Eltern\,\nich möchte euch alle herzlich zum ersten Kinder&Jugend Sommerfest einladen.\n\nWas ist geplant?\nIch möchte mit euch einen tollen Tag am und auf dem Wasser verbringen.\nAm Bootshaus Marli werden wir zusammen mit “ Exeo “ die Wakenitz auf deren barrierefreien Holzflößen unsicher machen.\nDie Jugendgruppe der Malteser Lübeck wirft den Grill an und sorgt für unser leibliches Wohlergehen. Ich freue mich\, wenn zwischen den Jugendgruppen ein Austausch und eine Vernetzung stattfindet\, von der alle profitieren.\n\nIch würde mich sehr freuen\, euch zahlreich beim Sommerfest begrüßen zu dürfen.\nGeschwisterkinder sind natürlich auch herzlich willkommen.Der Eigenanteil von 5\,00 € ( Bar) kann vor Ort entrichtet werden.Herzliche Grüße!\nHanna Stüber (Jugendbeauftragte DGM LVSH) \nAnmeldung bitte mit folgendem Anmeldeformular: Anmeldung 6.Sept.\,Kinder&Jugend Fest\,\nAnmeldefrist ist der 25.August 2025.
URL:https://dgm-im-norden.de/event/1-kinder-jugend-sommerfest-des-landesverbandes-schleswig-holstein/
LOCATION:Bootshaus Marli\, Bootshaus Marli\, Alexanderstraße 2A\, Lübeck\, 23566
ATTACH;FMTTYPE=image/jpeg:https://dgm-im-norden.de/wp-content/uploads/2025/07/tmpimageup_KYRylx.jpg
END:VEVENT
BEGIN:VEVENT
DTSTART;TZID=Europe/Berlin:20250924T190000
DTEND;TZID=Europe/Berlin:20250924T210000
DTSTAMP:20260425T124623
CREATED:20250717T075625Z
LAST-MODIFIED:20250727T100618Z
UID:5120-1758740400-1758747600@dgm-im-norden.de
SUMMARY:Schlägt das Pendel der Inklusion zurück? Die USA unter Donald Trump und die Situation der Menschen mit Behinderungen • Online-Gespräch / Vortrag mit Ottmar Miles-Paul
DESCRIPTION:Zum Thema: \nBetrachtet man die aktuellen politischen Entwicklungen in den Vereinigten Staaten\, wird deutlich\, wie schnell und mit wie wenigen Dekreten sich eine Gesellschaft verändern kann. Die USA waren einmal Vorreiter bei der Umsetzung von Barrierefreiheit im öffentlichen Raum. Was bedeuten nun die Angriffe auf den „Americans with Disabilities Act“ (ADA)\, auf Medicare/Medicaid und auf die „Diversity\, Equity\, Inclusion (DEI)“-Initiativen für Menschen mit Behinderung vor Ort? Und schließlich die bedrückende Frage: Kann so etwas auch uns in Deutschland noch treffen? \nIm anschließenden Gespräch wollen wir diesen Fragen nachgehen. \nZum Referenten: \nOttmar Miles-Paul ist selbst seh- und hörbehindert und hat während eines 15-monatigen Aufenthaltes in Berkeley bei San Francisco\, die Behindertenpolitik der USA Ende der 1980er Jahre kennengelernt. 1993 bis 1999 baute er als Geschäftsführer die Interessenvertretung Selbstbestimmt Leben in Deutschland (ISL) auf. \nSeit Jahrzehnten setzt er sich für Selbstbestimmung und Teilhabe von Menschen mit Behinderungen sowie für eine barrierefreie Umweltgestaltung ein. Er versteht Information als Schlüssel zur Teilhabe und betreibt aktiv Öffentlichkeitsarbeit. Als Buchautor\, als ehrenamtlich arbeitender Publizist und als Initiator und Vorstand des Online-Informationsportals kobinet-nachrichten. \nAnmeldung zur Veranstaltung mit dem Zoom-Link unten!
URL:https://dgm-im-norden.de/event/schlaegt-das-pendel-der-inklusion-zurueck-die-usa-unter-donald-trump-und-die-situation-der-menschen-mit-behinderungen-online-gespraech-vortrag-mit-ottmar-miles-paul/
LOCATION:Online per Zoom
ATTACH;FMTTYPE=image/jpeg:https://dgm-im-norden.de/wp-content/uploads/2025/07/Gross-Bildschirmfoto-2025-07-23-um-13.24.18.jpeg
ORGANIZER;CN="DGM Landesverband Bremen/Niedersachsen":MAILTO:christian.zuechner@dgm.org
END:VEVENT
END:VCALENDAR