BEGIN:VCALENDAR
VERSION:2.0
PRODID:-//Die DGM in Bremen / Niedersachsen - ECPv6.15.20//NONSGML v1.0//EN
CALSCALE:GREGORIAN
METHOD:PUBLISH
X-WR-CALNAME:Die DGM in Bremen / Niedersachsen
X-ORIGINAL-URL:https://dgm-im-norden.de
X-WR-CALDESC:Veranstaltungen für Die DGM in Bremen / Niedersachsen
REFRESH-INTERVAL;VALUE=DURATION:PT1H
X-Robots-Tag:noindex
X-PUBLISHED-TTL:PT1H
BEGIN:VTIMEZONE
TZID:Europe/Berlin
BEGIN:DAYLIGHT
TZOFFSETFROM:+0100
TZOFFSETTO:+0200
TZNAME:CEST
DTSTART:20240331T010000
END:DAYLIGHT
BEGIN:STANDARD
TZOFFSETFROM:+0200
TZOFFSETTO:+0100
TZNAME:CET
DTSTART:20241027T010000
END:STANDARD
BEGIN:DAYLIGHT
TZOFFSETFROM:+0100
TZOFFSETTO:+0200
TZNAME:CEST
DTSTART:20250330T010000
END:DAYLIGHT
BEGIN:STANDARD
TZOFFSETFROM:+0200
TZOFFSETTO:+0100
TZNAME:CET
DTSTART:20251026T010000
END:STANDARD
BEGIN:DAYLIGHT
TZOFFSETFROM:+0100
TZOFFSETTO:+0200
TZNAME:CEST
DTSTART:20260329T010000
END:DAYLIGHT
BEGIN:STANDARD
TZOFFSETFROM:+0200
TZOFFSETTO:+0100
TZNAME:CET
DTSTART:20261025T010000
END:STANDARD
END:VTIMEZONE
BEGIN:VEVENT
DTSTART;TZID=Europe/Berlin:20250814T190000
DTEND;TZID=Europe/Berlin:20250814T200000
DTSTAMP:20260425T143132
CREATED:20250721T072333Z
LAST-MODIFIED:20250727T100527Z
UID:5150-1755198000-1755201600@dgm-im-norden.de
SUMMARY:Begrüßung aller Neumitglieder
DESCRIPTION:Wir freuen uns über alle Neumitglieder\, die unserem Landesverband beitreten! Bisher haben wir zweimal im Jahr unsere Neumitglieder mit einer eigenen Veranstaltung begrüßt\, wir werden das nun vier Mal im Jahr machen. \nWer seit Mai dieses Jahres Mitglied ist\, ist herzlich zu einem Zoom-Meeting am 14. August um 19 Uhr eingeladen. Alle „Neuen“ erhalten dazu eine separate Mail mit dem Zoom-Link. Warum so ein Treffen? Es geht im Grunde um einen Austausch und gegenseitiges Kennenlernen. Wir stellen kurz die DGM und unsere Aktivitäten vor\, und würden gerne wissen\, was Euch interessiert\, was Ihr wissen wollt\, was Ihr von der DGM erwartet. Das war bei den letzten Treffen sehr spannend.
URL:https://dgm-im-norden.de/event/begruessung-aller-neumitglieder/
LOCATION:Online per Zoom
ATTACH;FMTTYPE=image/png:https://dgm-im-norden.de/wp-content/uploads/2025/07/cartoon-3358118_960_720.png
ORGANIZER;CN="DGM Landesverband Bremen/Niedersachsen":MAILTO:christian.zuechner@dgm.org
END:VEVENT
BEGIN:VEVENT
DTSTART;TZID=Europe/Berlin:20250823T103000
DTEND;TZID=Europe/Berlin:20250823T160000
DTSTAMP:20260425T143132
CREATED:20250702T175116Z
LAST-MODIFIED:20250804T182445Z
UID:4973-1755945000-1755964800@dgm-im-norden.de
SUMMARY:Mitgliedertreffen in Bremen
DESCRIPTION:Nach unserem Treffen im vergangen Jahr in Hannover\, sind wir nun wieder in Bremen! Herzliche Einladung zum Mitgliedertreffen im Tagungszentrum Forum K. \nDie Räume im ForumK sind barrierefrei und liegen in zentraler\, verkehrsgünstiger Lage in Bremen. Vom Bahnhof sind sie mit öffentlichen Verkehrsmitteln und eigener Haltestelle gut erreichbar. Direkt an der Weser gelegen\, kommt man in 10 Minuten zu Fuß in die Innenstadt. Eine Tiefgarage (1 € je angefangene Stunde\, 9 € pro Tag) mit direktem Zugang zu den Tagungsräumen steht zur Verfügung. Daneben gibt es am Klinikum einige Behindertenparkplätze für Menschen mit einer Sonderparkerlaubnis (blauer Parkausweis für Schwerbehinderte). Die Zufahrt erfolgt über die Osterstraße. \nSamstag\, 23. August 2025 von 10:30 bis 16:00 Uhr \nTagungszentrum Forum K\, „Rotes Kreuz Krankenhaus“\nSt.-Pauli-Deich 24 (Anfahrt über Osterstraße)\n28199 Bremen \n\nTagesablauf: \n\n\n\n10:30 Uhr\nBegrüßung und Eröffnung\n\n\n11:00 Uhr\nAutofahren mit neuromuskulärer Erkrankung (Herr Dr. Carsten Schröter\, Göttingen)\n\n\n11:45 Uhr\nBehindertengerechte PKW-Umbauten (Frau Sonja Trabant\, Firma Fricke\, Rastede)\nSonja Trabant stellt Möglichkeiten und Beispiele vor und auch DGM-Mitglieder zeigen ihre Umbauten\n\n\n13:00 Uhr\nMittagessen und Zeit zum Austausch\, Kennenlernen und Klönen\n\n\n14:30 Uhr\nBericht aus dem Landesverband (Mitgliederversammlung)\nmit Nachwahl einer/eines Kassenprüferin/Kassenprüfers\n\n\n15:15 Uhr\nMedizinisches Behandlungszentrum für Erwachsene mit Behinderungen (MZEB) Bremen (Herr Dr. Ulf Hustedt)\n\n\ngegen 16:00 Uhr\nAbschluss\n\n\n\nAnmeldung: \nBis zum 13. August 2025 bei \n\nIngrid Haberland\, ingrid.haberland@dgm.org\, Tel.: 05101 8195409 oder\nChristian Züchner\, christian.zuechner@dgm.org\n\nFür Essen und Getränke erheben wir einen Eigenbetrag von 10 Euro pro Person. Bitte überweise den Teilnehmerbeitrag bei der Anmeldung auf unser Konto: DE76 2512 0510 0007 4477 00 bei der Bank für Sozialwirtschaft Hannover \nMit freundlichen Grüßen \nChristian Züchner\nVorsitzender DGM Landesverband Bremen / Niedersachsen \nEinladung als Download
URL:https://dgm-im-norden.de/event/mitgliedertreffen-in-bremen/
LOCATION:Tagungszentrum Forum K\, „Rotes Kreuz Krankenhaus“\, St.-Pauli-Deich 24\, Bremen\, 28199
ATTACH;FMTTYPE=image/jpeg:https://dgm-im-norden.de/wp-content/uploads/2025/04/Mittel-IMG_8014.jpeg
ORGANIZER;CN="DGM Landesverband Bremen/Niedersachsen":MAILTO:christian.zuechner@dgm.org
END:VEVENT
END:VCALENDAR